BEGIN:VCALENDAR
VERSION:2.0
PRODID:-//hacksw/handcal//NONSGML v1.0//EN
BEGIN:VEVENT
SUMMARY:Cristo jeune
UID:52d52a66-0283-409b-8424-f3a13dd90db7
DTSTART:20260418T080000Z
DTEND:20260418T220000Z
LOCATION:Localisation palais des sports robert oubron  creteil
CATEGORIES:Sportif
STATUS:
URL;VALUE=URI:https://www.mlo-71.com/evenements/2026/04/18/cristo-jeune-2443313
END:VEVENT
END:VCALENDAR
